BEGIN:VCALENDAR
VERSION:2.0
BEGIN:VEVENT
DTSTART;TZID=Europe/Stockholm:20250912T180000
DTEND;TZID=Europe/Stockholm:20250912T190000
DTSTAMP:20260421T071136
DESCRIPTION:Anmälan till Nancy, 070-748 11 68, gärna före 31 aug. Du kan kolla även senare om det är möjligt att komma.
SEQUENCE:0
SUMMARY:Surströmmingsfest på Ölmeklint
UID:5243@lawebb.se
END:VEVENT
END:VCALENDAR