BEGIN:VCALENDAR
VERSION:2.0
BEGIN:VEVENT
DTSTART;TZID=Europe/Stockholm:20250909T181500
DTEND;TZID=Europe/Stockholm:20250909T191500
DTSTAMP:20260421T071811
DESCRIPTION:Ikväll startar scoutträffarna som pågår mellan 18.15-19.45. Ledarna säger välkommen till nya scouter och de som varit med tidigare.
SEQUENCE:0
SUMMARY:Scouterna på Ölmeklint
UID:9523@lawebb.se
END:VEVENT
END:VCALENDAR