BEGIN:VCALENDAR
VERSION:2.0
BEGIN:VEVENT
DTSTART;TZID=Europe/Stockholm:20250906T110000
DTEND;TZID=Europe/Stockholm:20250906T120000
DTSTAMP:20260421T071309
DESCRIPTION:Mellan kl 11-15 är det full aktivitetet vid Hållplats Loppis och vid kyrkan.
SEQUENCE:0
SUMMARY:Skördefest vid Loppis i Väse
UID:9969@lawebb.se
END:VEVENT
END:VCALENDAR