BEGIN:VCALENDAR
VERSION:2.0
BEGIN:VEVENT
DTSTART;TZID=Europe/Stockholm:20250906T180000
DTEND;TZID=Europe/Stockholm:20250906T190000
DTSTAMP:20260421T071817
DESCRIPTION:Tack för ännu ett år och sommaren på Ölmeklint eller vad det är vi gjort, t.ex. varit i bön för personer, församling och bygd. 
Vi trivs med samtal och smörgåstårta och något gott till kaffet.
SEQUENCE:0
SUMMARY:Församlingens sommarfest
UID:7889@lawebb.se
END:VEVENT
END:VCALENDAR