BEGIN:VCALENDAR
VERSION:2.0
BEGIN:VEVENT
DTSTART;TZID=Europe/Stockholm:20250902T180000
DTEND;TZID=Europe/Stockholm:20250902T190000
DTSTAMP:20260421T071643
DESCRIPTION:
SEQUENCE:0
SUMMARY:Scoutledarträff på Ölmeklint
UID:4939@lawebb.se
END:VEVENT
END:VCALENDAR