BEGIN:VCALENDAR
VERSION:2.0
BEGIN:VEVENT
DTSTART;TZID=Europe/Stockholm:20250902T140000
DTEND;TZID=Europe/Stockholm:20250902T150000
DTSTAMP:20260421T071500
DESCRIPTION:Ingemar Mattsson sjunger och talar.
SEQUENCE:0
SUMMARY:Sångstund på Ölmegården
UID:6359@lawebb.se
END:VEVENT
END:VCALENDAR