BEGIN:VCALENDAR
VERSION:2.0
BEGIN:VEVENT
DTSTART;TZID=Europe/Stockholm:20250901T000000
DTEND;TZID=Europe/Stockholm:20250901T240000
DTSTAMP:20260421T071054
DESCRIPTION:
SEQUENCE:0
SUMMARY:Storstädning i Klippan v 36-38
UID:3389@lawebb.se
END:VEVENT
END:VCALENDAR