BEGIN:VCALENDAR
VERSION:2.0
BEGIN:VEVENT
DTSTART;TZID=Europe/Stockholm:20250831T140000
DTEND;TZID=Europe/Stockholm:20250831T150000
DTSTAMP:20260421T091146
DESCRIPTION:Den tredje gudstjänsten i Marieberg i år blir tillsammans med Rune W Dahlén. Sång blir det av Björn Andersson.
Som tidigare tar vi med egen fikakorg till missionshuset som är granne med Björndalen. Sök via GPS efter Missionshuset Marieberg.
SEQUENCE:0
SUMMARY:Gudstjänst i Missionshuset Marieberg
UID:7852@lawebb.se
END:VEVENT
END:VCALENDAR