BEGIN:VCALENDAR
VERSION:2.0
BEGIN:VEVENT
DTSTART;TZID=Europe/Stockholm:20250828T150000
DTEND;TZID=Europe/Stockholm:20250828T160000
DTSTAMP:20260421T090955
DESCRIPTION:
SEQUENCE:0
SUMMARY:Stickcafé hos Eqk Väse
UID:7832@lawebb.se
END:VEVENT
END:VCALENDAR