BEGIN:VCALENDAR
VERSION:2.0
BEGIN:VEVENT
DTSTART;TZID=Europe/Stockholm:20250825T000000
DTEND;TZID=Europe/Stockholm:20250825T240000
DTSTAMP:20260421T091600
DESCRIPTION:Storstädning pågår fram till att vi startar där med gudstjänst den 21 september.
SEQUENCE:0
SUMMARY:Storstädning i Klippan börjar nu
UID:4478@lawebb.se
END:VEVENT
END:VCALENDAR