BEGIN:VCALENDAR
VERSION:2.0
BEGIN:VEVENT
DTSTART;TZID=Europe/Stockholm:20250824T190000
DTEND;TZID=Europe/Stockholm:20250824T200000
DTSTAMP:20260421T091227
DESCRIPTION:Denna kväll lyssnar vi till Cantus Gaudium trio.
SEQUENCE:0
SUMMARY:Sommarkväll i Ölmhult (nordöstra Väse)
UID:2678@lawebb.se
END:VEVENT
END:VCALENDAR