BEGIN:VCALENDAR
VERSION:2.0
BEGIN:VEVENT
DTSTART;TZID=Europe/Stockholm:20250817T180000
DTEND;TZID=Europe/Stockholm:20250817T190000
DTSTAMP:20260421T091341
DESCRIPTION:Ikväll predikar Jenny Persson och det blir medlemsmottagning. Öppet för fler att höra av sig om att vilja gå in som medlem i vår församling.
SEQUENCE:0
SUMMARY:Sommargudstjänst på Ölmeklint
UID:7964@lawebb.se
END:VEVENT
END:VCALENDAR