BEGIN:VCALENDAR
VERSION:2.0
BEGIN:VEVENT
DTSTART;TZID=Europe/Stockholm:20250810T190000
DTEND;TZID=Europe/Stockholm:20250810T200000
DTSTAMP:20260421T091304
DESCRIPTION:Denna kväll får vi lyssna till Huggenäs Gospel.
SEQUENCE:0
SUMMARY:Sommarkväll i Ölmhult (nordöstra Väse)
UID:2653@lawebb.se
END:VEVENT
END:VCALENDAR