BEGIN:VCALENDAR
VERSION:2.0
BEGIN:VEVENT
DTSTART;TZID=Europe/Stockholm:20250803T160000
DTEND;TZID=Europe/Stockholm:20250803T170000
DTSTAMP:20260421T091626
DESCRIPTION:Söndagens gudstjänst i Ölme blir här med Elsie Schwab Hollsten, Ingela Johansson, Nancy Edlund med flera
SEQUENCE:0
SUMMARY:Gemensam gudstjänst vid Mor Annas stuga
UID:7883@lawebb.se
END:VEVENT
END:VCALENDAR