BEGIN:VCALENDAR
VERSION:2.0
BEGIN:VEVENT
DTSTART;TZID=Europe/Stockholm:20250801T000000
DTEND;TZID=Europe/Stockholm:20250801T240000
DTSTAMP:20260421T091002
DESCRIPTION:Från onsdag till söndag är det olika samlingar på Hults sommarhem.
SEQUENCE:0
SUMMARY:Livsviktigt på Hults sommarhem
UID:3792@lawebb.se
END:VEVENT
END:VCALENDAR