BEGIN:VCALENDAR
VERSION:2.0
BEGIN:VEVENT
DTSTART;TZID=Europe/Stockholm:20250730T180000
DTEND;TZID=Europe/Stockholm:20250730T190000
DTSTAMP:20260421T104916
DESCRIPTION:Men möjligthet till aktivitet nere hos Ölmeljus diversehandel som har BODTRAPPAN fylld av Ingemar Eliasson, Thomas Molin, Göran Samuelsson och veteranbilar.
SEQUENCE:0
SUMMARY:inställt på Ölmeklint
UID:9859@lawebb.se
END:VEVENT
END:VCALENDAR