BEGIN:VCALENDAR
VERSION:2.0
BEGIN:VEVENT
DTSTART;TZID=Europe/Stockholm:20250727T110000
DTEND;TZID=Europe/Stockholm:20250727T120000
DTSTAMP:20260421T104857
DESCRIPTION:Denna söndag möts vi hos Kärstin Olsson och Dick Andersson, Lindås 532. Ta med eget fika och gärna stol.
SEQUENCE:0
SUMMARY:Trädgårdsmöte i Väse
UID:9422@lawebb.se
END:VEVENT
END:VCALENDAR