BEGIN:VCALENDAR
VERSION:2.0
BEGIN:VEVENT
DTSTART;TZID=Europe/Stockholm:20250720T140000
DTEND;TZID=Europe/Stockholm:20250720T150000
DTSTAMP:20260421T105422
DESCRIPTION:Välkommmen upp till norra Ölme där missionshuset är granne med Björndalen. Denna gudstjänst är det Ingemar Mattsson som vi får lyssna till. Tag med egen kaffekorg och kanske även stol.
SEQUENCE:0
SUMMARY:Sommargudstjänst i missionshuset Marieberg
UID:6665@lawebb.se
END:VEVENT
END:VCALENDAR