BEGIN:VCALENDAR
VERSION:2.0
BEGIN:VEVENT
DTSTART;TZID=Europe/Stockholm:20250713T190000
DTEND;TZID=Europe/Stockholm:20250713T200000
DTSTAMP:20260423T112217
DESCRIPTION:Ikväll vår vi åter bekanta oss med Irene och Robert Johansson och deras härliga sätt att presentera sångskatter.
SEQUENCE:0
SUMMARY:Sommarkväll i Ölmhult (nordöstra Väse)
UID:6627@lawebb.se
END:VEVENT
END:VCALENDAR