BEGIN:VCALENDAR
VERSION:2.0
BEGIN:VEVENT
DTSTART;TZID=Europe/Stockholm:20250706T110000
DTEND;TZID=Europe/Stockholm:20250706T120000
DTSTAMP:20260421T105003
DESCRIPTION:Hos Annika o Stig Carlsson, Ljungby 501.
Ta med fikakorg och gärna stol.
SEQUENCE:0
SUMMARY:Trädgårdsmöte i Väse
UID:6462@lawebb.se
END:VEVENT
END:VCALENDAR