BEGIN:VCALENDAR
VERSION:2.0
BEGIN:VEVENT
DTSTART;TZID=Europe/Stockholm:20250702T180000
DTEND;TZID=Europe/Stockholm:20250702T190000
DTSTAMP:20260421T105207
DESCRIPTION:Kom till Ölmeklint från kl 18 för att umgås och spela spel, t.ex. kubb, boccia, wolleyboll och annat. Grillen är varm för de som vill använda den. Finns enkelt fika och glass att köpa.
SEQUENCE:0
SUMMARY:Aktivitetskväll för alla åldrar
UID:7597@lawebb.se
END:VEVENT
END:VCALENDAR