BEGIN:VCALENDAR
VERSION:2.0
BEGIN:VEVENT
DTSTART;TZID=Europe/Stockholm:20250629T190000
DTEND;TZID=Europe/Stockholm:20250629T200000
DTSTAMP:20260423T130346
DESCRIPTION:Ölmebon Anne-Marie Karlsson sjunger till ackompanjemang av Maria Ydrebrog.
SEQUENCE:0
SUMMARY:Sommarkväll i Ölmhult (nordöstra Väse)
UID:8797@lawebb.se
END:VEVENT
END:VCALENDAR