BEGIN:VCALENDAR
VERSION:2.0
BEGIN:VEVENT
DTSTART;TZID=Europe/Stockholm:20250628T100000
DTEND;TZID=Europe/Stockholm:20250628T110000
DTSTAMP:20260423T131005
DESCRIPTION:Loppis i Ölme samhälle och marknad vid Ölme Diversehandel samt Loppis och annan försäljning runt om i Ölme. Kommer att finnas digital karta, via www.olmemarknad.se.
SEQUENCE:0
SUMMARY:Loppis- o marknadsdag kl 10-15 i Ölme
UID:5472@lawebb.se
END:VEVENT
END:VCALENDAR