BEGIN:VCALENDAR
VERSION:2.0
BEGIN:VEVENT
DTSTART;TZID=Europe/Stockholm:20250625T183000
DTEND;TZID=Europe/Stockholm:20250625T193000
DTSTAMP:20260423T130356
DESCRIPTION:Kom gärna och hjälp till med att fixa något för våra minsta. Kristina o Per ordnar material.
SEQUENCE:0
SUMMARY:Bygger sandlåda på Ölmeklint
UID:5626@lawebb.se
END:VEVENT
END:VCALENDAR