BEGIN:VCALENDAR
VERSION:2.0
BEGIN:VEVENT
DTSTART;TZID=Europe/Stockholm:20250623T180000
DTEND;TZID=Europe/Stockholm:20250623T190000
DTSTAMP:20260423T130530
DESCRIPTION:Beslut om fönstren i Klippan.
SEQUENCE:0
SUMMARY:Styrelsemöte på Ölmeklint
UID:6828@lawebb.se
END:VEVENT
END:VCALENDAR