BEGIN:VCALENDAR
VERSION:2.0
BEGIN:VEVENT
DTSTART;TZID=Europe/Stockholm:20250622T140000
DTEND;TZID=Europe/Stockholm:20250622T150000
DTSTAMP:20260423T131010
DESCRIPTION:Ekumenisk gudstjänst tillsammans med Svenska kyrkan och Sara Flodquist och musiker Björn Eckerrot m.fl.
Ta med fikakorg och gärna stol också.
SEQUENCE:0
SUMMARY:Kummelöns naturreservat - vid entrén
UID:7964@lawebb.se
END:VEVENT
END:VCALENDAR