BEGIN:VCALENDAR
VERSION:2.0
BEGIN:VEVENT
DTSTART;TZID=Europe/Stockholm:20250620T153000
DTEND;TZID=Europe/Stockholm:20250620T163000
DTSTAMP:20260423T130747
DESCRIPTION:Föreställning med Sopan, ja Ingela Öhman, startar kl 15.30.
Därefter traditionell midsommarfest med resning av stången ca 16.15 och välkomnande. Blomlotteri.
Danslekar runt stången med Sopan/Ingela o Yngve.
Barmen kan åka i vagn efter gammal traktor.
Folkdanslaget dansar för oss ca kl 17.15.
Från 16.15 servering av våfflor, fika, kaffe/saft, glass och korv.
Hitta *Sommarhemmet Ölmeklint* genom att skriva in det i GPS.
SEQUENCE:0
SUMMARY:Midsommarfirande på Ölmeklint kl 15.30
UID:8889@lawebb.se
END:VEVENT
END:VCALENDAR