BEGIN:VCALENDAR
VERSION:2.0
BEGIN:VEVENT
DTSTART;TZID=Europe/Stockholm:20250619T180000
DTEND;TZID=Europe/Stockholm:20250619T190000
DTSTAMP:20260423T130837
DESCRIPTION:Ta med blommor, blommor och ...
Ikväll gör vi i ordning midsommarstången och annat som behövs göras inför i morgon.
SEQUENCE:0
SUMMARY:Förbereder för i morgon på Ölmeklint
UID:6795@lawebb.se
END:VEVENT
END:VCALENDAR