BEGIN:VCALENDAR
VERSION:2.0
BEGIN:VEVENT
DTSTART;TZID=Europe/Stockholm:20250618T183000
DTEND;TZID=Europe/Stockholm:20250618T193000
DTSTAMP:20260423T130943
DESCRIPTION:På Ölmeklint träffas de som vill prata vidare om tro och församlingsliv. Sista gången för terminen.
SEQUENCE:0
SUMMARY:Livsnära samtal
UID:6956@lawebb.se
END:VEVENT
END:VCALENDAR