BEGIN:VCALENDAR
VERSION:2.0
BEGIN:VEVENT
DTSTART;TZID=Europe/Stockholm:20250615T190000
DTEND;TZID=Europe/Stockholm:20250615T200000
DTSTAMP:20260423T130452
DESCRIPTION:Ikväll med Ingemar Eliasson och sång och musik med Björn Andersson och Tomas Ahlbäck.
SEQUENCE:0
SUMMARY:Sommarkväll i Ölmhult (nordöstra Väse)
UID:9324@lawebb.se
END:VEVENT
END:VCALENDAR