BEGIN:VCALENDAR
VERSION:2.0
BEGIN:VEVENT
DTSTART;TZID=Europe/Stockholm:20250614T000000
DTEND;TZID=Europe/Stockholm:20250614T240000
DTSTAMP:20260423T130316
DESCRIPTION:Vi önskar scouter och ledare fem härliga dagar tillsammans. Vi hemma ber för dom.
SEQUENCE:0
SUMMARY:Scoutläger på Ladtjärnstorp
UID:9363@lawebb.se
END:VEVENT
END:VCALENDAR