BEGIN:VCALENDAR
VERSION:2.0
BEGIN:VEVENT
DTSTART;TZID=Europe/Stockholm:20250614T190000
DTEND;TZID=Europe/Stockholm:20250614T200000
DTSTAMP:20260423T131142
DESCRIPTION:En kväll med &#34;Värmländskt i ord och ton&#34; tillsammans med Björn Sandborgh.
Hitta *Sommarhemmet Ölmeklint* genom att skriva in det i GPS.
SEQUENCE:0
SUMMARY:Lördagskväll på Ölmeklint
UID:7529@lawebb.se
END:VEVENT
END:VCALENDAR