BEGIN:VCALENDAR
VERSION:2.0
BEGIN:VEVENT
DTSTART;TZID=Europe/Stockholm:20250611T183000
DTEND;TZID=Europe/Stockholm:20250611T193000
DTSTAMP:20260423T131101
DESCRIPTION:Jenny Persson lotsar oss genom någon bibeltext efter det att vi fikat. Därefter bön för bygd, församling och personliga behov. Sista gången för terminen.
SEQUENCE:0
SUMMARY:Bibelsamtal på Ölmeklint
UID:9445@lawebb.se
END:VEVENT
END:VCALENDAR