BEGIN:VCALENDAR
VERSION:2.0
BEGIN:VEVENT
DTSTART;TZID=Europe/Stockholm:20250610T140000
DTEND;TZID=Europe/Stockholm:20250610T150000
DTSTAMP:20260423T130235
DESCRIPTION:Eqk Ölme är där med sång, berättande, andakt med Ingemar Mattson. Efteråt blir det fika.
SEQUENCE:0
SUMMARY:Sångstund på Ölmegården
UID:9248@lawebb.se
END:VEVENT
END:VCALENDAR