BEGIN:VCALENDAR
VERSION:2.0
BEGIN:VEVENT
DTSTART;TZID=Europe/Stockholm:20250608T180000
DTEND;TZID=Europe/Stockholm:20250608T190000
DTSTAMP:20260423T130947
DESCRIPTION:Gudstjänst på pingstdagen med Jenny Persson samt sångare och pianist från Equmeniakyrkan i Molkom samt Elias Storm med flera.
SEQUENCE:0
SUMMARY:Sommargudstjänst på Ölmeklint
UID:2735@lawebb.se
END:VEVENT
END:VCALENDAR