BEGIN:VCALENDAR
VERSION:2.0
BEGIN:VEVENT
DTSTART;TZID=Europe/Stockholm:20250607T190000
DTEND;TZID=Europe/Stockholm:20250607T200000
DTSTAMP:20260423T131214
DESCRIPTION:Återbud av Ingemar Helmner, av hälsoskäl.
&#34;*Älskade psalmer och läsarsånger*&#34; var deras rubrik och den gäller även när Katarina Vallhagen och Lena Lid Falkman sjunger med oss till ackompanjemang av Bengt Haster.
Använder du *GPS* för att hitta så skriver nu in *Sommarhemmet Ölmeklint* så blir du hänvisad rätt. Gäller också för den som ska beställa färdtjänst.
SEQUENCE:0
SUMMARY:Säsongsstart av lördagskvällarna
UID:6436@lawebb.se
END:VEVENT
END:VCALENDAR