BEGIN:VCALENDAR
VERSION:2.0
BEGIN:VEVENT
DTSTART;TZID=Europe/Stockholm:20250604T183000
DTEND;TZID=Europe/Stockholm:20250604T193000
DTSTAMP:20260423T130803
DESCRIPTION:På Ölmeklint träffas de som vill samtala om allt mellan himmel och jord och något intressant om Gud och församling.
SEQUENCE:0
SUMMARY:Livsnära samtal
UID:6294@lawebb.se
END:VEVENT
END:VCALENDAR