BEGIN:VCALENDAR
VERSION:2.0
BEGIN:VEVENT
DTSTART;TZID=Europe/Stockholm:20250529T100000
DTEND;TZID=Europe/Stockholm:20250529T110000
DTSTAMP:20260423T145521
DESCRIPTION:Equmeniakyrkan har öppet i och vid Hållplats Loppis och det är våffelcafé i kyrkan.
SEQUENCE:0
SUMMARY:Vårmarknad i Väse kl 10-16
UID:5787@lawebb.se
END:VEVENT
END:VCALENDAR