BEGIN:VCALENDAR
VERSION:2.0
BEGIN:VEVENT
DTSTART;TZID=Europe/Stockholm:20250529T080000
DTEND;TZID=Europe/Stockholm:20250529T090000
DTSTAMP:20260423T145236
DESCRIPTION:Den ekumeniska gökottan ordnas i år av Equmeniakyrkan med Ingemar Mattson som talare och sångare.
SEQUENCE:0
SUMMARY:Kummelöns naturreservat - vid entrén
UID:4556@lawebb.se
END:VEVENT
END:VCALENDAR