BEGIN:VCALENDAR
VERSION:2.0
BEGIN:VEVENT
DTSTART;TZID=Europe/Stockholm:20250526T000000
DTEND;TZID=Europe/Stockholm:20250526T240000
DTSTAMP:20260423T145830
DESCRIPTION:Olika volontärer åker runt på Ölmebygdens vägar och lägger kyrkornas gemensamma programblad i alla brevlådor, även till sommarboende. Välkomna till vad som erbjuds under sommaren.
SEQUENCE:0
SUMMARY:ÖlmeNytt delas ut i bygdens brevlådor
UID:3373@lawebb.se
END:VEVENT
END:VCALENDAR