BEGIN:VCALENDAR
VERSION:2.0
BEGIN:VEVENT
DTSTART;TZID=Europe/Stockholm:20250525T190000
DTEND;TZID=Europe/Stockholm:20250525T200000
DTSTAMP:20260423T150141
DESCRIPTION:Start av sommarkvällarna i missionshuset i nordöstra Väse med Gunilla och Johan Sigvardsson.
SEQUENCE:0
SUMMARY:Sommarkväll i Ölmhult
UID:8693@lawebb.se
END:VEVENT
END:VCALENDAR