BEGIN:VCALENDAR
VERSION:2.0
BEGIN:VEVENT
DTSTART;TZID=Europe/Stockholm:20250522T150000
DTEND;TZID=Europe/Stockholm:20250522T160000
DTSTAMP:20260423T145717
DESCRIPTION:
SEQUENCE:0
SUMMARY:Stickcafé hos Eqk Väse
UID:4536@lawebb.se
END:VEVENT
END:VCALENDAR