BEGIN:VCALENDAR
VERSION:2.0
BEGIN:VEVENT
DTSTART;TZID=Europe/Stockholm:20250518T140000
DTEND;TZID=Europe/Stockholm:20250518T150000
DTSTAMP:20260423T145547
DESCRIPTION:Tore Kjäll predikar och sjunger. Efteråt njuter vi av eget fika ute på kyrkbacken.
 Mariebergs missionshus ligger granne med Björndalen, nästan längst norrut efter vägen mellan Niklasdams Trädgård och Persbol.
SEQUENCE:0
SUMMARY:Gudstjänst i Mariebergs missionshus
UID:6522@lawebb.se
END:VEVENT
END:VCALENDAR