BEGIN:VCALENDAR
VERSION:2.0
BEGIN:VEVENT
DTSTART;TZID=Europe/Stockholm:20250513T140000
DTEND;TZID=Europe/Stockholm:20250513T150000
DTSTAMP:20260423T145520
DESCRIPTION:Eqk Ölme är där med musik av Yngve Nyberg och några försångare sjunger med de boende. Andakt och fika efteråt.
SEQUENCE:0
SUMMARY:Sångstund på Ölmegården
UID:6575@lawebb.se
END:VEVENT
END:VCALENDAR