BEGIN:VCALENDAR
VERSION:2.0
BEGIN:VEVENT
DTSTART;TZID=Europe/Stockholm:20250511T110000
DTEND;TZID=Europe/Stockholm:20250511T120000
DTSTAMP:20260423T145451
DESCRIPTION:Gtj med nattvard med Ulf Eriksson.
SEQUENCE:0
SUMMARY:Gudstjänst i Klippan
UID:6638@lawebb.se
END:VEVENT
END:VCALENDAR