BEGIN:VCALENDAR
VERSION:2.0
BEGIN:VEVENT
DTSTART;TZID=Europe/Stockholm:20250504T110000
DTEND;TZID=Europe/Stockholm:20250504T120000
DTSTAMP:20260423T145423
DESCRIPTION:Ingemar Mattson predikar.
SEQUENCE:0
SUMMARY:Gudstjänst i Eqk Väse
UID:5969@lawebb.se
END:VEVENT
END:VCALENDAR