BEGIN:VCALENDAR
VERSION:2.0
BEGIN:VEVENT
DTSTART;TZID=Europe/Stockholm:20250501T100000
DTEND;TZID=Europe/Stockholm:20250501T110000
DTSTAMP:20260423T145338
DESCRIPTION:Idag börjar GOA-grupperna att storstäda sin del av det inre och tillsammans ordnar vi till det yttre. Vi fortsätter städningen fram till 24 maj.
SEQUENCE:0
SUMMARY:Storstädningen på Ölmeklint
UID:2384@lawebb.se
END:VEVENT
END:VCALENDAR