BEGIN:VCALENDAR
VERSION:2.0
BEGIN:VEVENT
DTSTART;TZID=Europe/Stockholm:20250430T193000
DTEND;TZID=Europe/Stockholm:20250430T203000
DTSTAMP:20260423T171726
DESCRIPTION:kl 19.30 Pianomusik och servering i Klippan
kl 20.45 Fackeltåg till Idrottsplatsen där det blir vårtal av Elias Storm ca 21 och därefter tänds brasan med facklorna. Vårsånger samt grillning och lotteri innan fyrverkeriet.
SEQUENCE:0
SUMMARY:Valborgmässoafton i Ölme
UID:9494@lawebb.se
END:VEVENT
END:VCALENDAR