BEGIN:VCALENDAR
VERSION:2.0
BEGIN:VEVENT
DTSTART;TZID=Europe/Stockholm:20250427T110000
DTEND;TZID=Europe/Stockholm:20250427T120000
DTSTAMP:20260423T171726
DESCRIPTION:Delande, bön, lovsånger samt tre i samtal. Dela gärna någon egen upplevelse med oss andra i gudstjänsten.
SEQUENCE:0
SUMMARY:Gudstjänst i Klippan
UID:4385@lawebb.se
END:VEVENT
END:VCALENDAR