BEGIN:VCALENDAR
VERSION:2.0
BEGIN:VEVENT
DTSTART;TZID=Europe/Stockholm:20250425T200000
DTEND;TZID=Europe/Stockholm:20250425T210000
DTSTAMP:20260423T172122
DESCRIPTION:Fredag kväll kl 20 startar det gemensamma böndedygnet - Vaka och be. Följ gärna detta via sändningar som du delar via Equmeniakyrkans hemsida och på Eqk Youtubekanal. Var gärna med och be!
SEQUENCE:0
SUMMARY:Bönedygn inom Equmeniakyrkan
UID:6639@lawebb.se
END:VEVENT
END:VCALENDAR